{"text_format":"1","workbook":"xlsx","n_sheets":4,"sheets":["監督一覧","学年試験科目","クラス監督表","選択項目一覧"],"not_rendered":{"charts":0,"images":11,"macros":1,"external_links":0,"defined_names":9,"comments":0,"pivot_tables":0},"unopened":[],"bounds":{"document_bytes":16777216,"sheet_cells":100000,"rows_first":2000,"rows_last":500,"rows_between":2000,"halvings":0,"cell_chars":16384,"cell_head_chars":4096},"cells_cut":0,"cells_raw":0,"read":"whole","date_system":"1900"}

{"sheet":"監督一覧","index":0,"n_rows":73,"n_cols":28,"rows_kept":73,"cut":false,"hidden":false,"merged":[[67,3,67,20],[6,25,6,26],[68,6,68,15],[4,4,5,4],[4,0,5,0],[6,23,7,23],[9,23,10,23],[12,23,13,23],[4,17,4,20],[3,18,3,20],[3,6,3,16],[4,3,5,3],[4,5,4,8],[4,9,4,12],[4,13,4,16]]}
[null,null,null,4,10,6,null,null,null,null,null,null,null,null,null,null,null,null,null,20,21,22,23,24,25,26,27,30]
[]
[]
[25,null,null,null,null,null,{"$f":"X7&\"年度\"&X10&X13&\"試験監督表\"","v":"2021年度1学期中間試験監督表"},null,null,null,null,null,null,null,null,null,null,null,{"$f":"NOW()","v":"2021-05-18T21:04:15.600"}]
[20,null,null,"No","名前","2021-05-20",null,null,null,"2021-05-21",null,null,null,"2021-05-24",null,null,null,"2021-05-25"]
[null,null,null,null,null,"1時間目","2時間目","3時間目","4時間目","1時間目","2時間目","3時間目","4時間目","1時間目","2時間目","3時間目","4時間目","1時間目","2時間目","3時間目","4時間目"]
[15,null,null,1,1,"1-1",null,"3-3",null,"1-1",null,"3-3",null,"1-1",null,"3-3",null,null,"1-1","3-3",null,null,null,2021,null,"印刷設定"]
[null,null,null,2,2,"1-2",null,"3-4",null,"1-2",null,"3-4",null,"1-2",null,"3-4",null,null,"1-2","3-4",null,null,null,null,null,"用紙","A3"]
[null,null,null,3,3,"1-3",null,"3-5",null,"1-3",null,"3-5",null,"1-3",null,"3-5",null,null,"1-3","3-5",null,null,null,null,null,"倍率",0.9]
[null,null,null,4,4,"1-4",null,"3-6",null,"1-4",null,"3-6",null,"1-4",null,"3-6",null,null,"1-4","3-6",null,null,null,"1学期",null,"Top Margin",1]
[null,null,null,5,5,"1-5",null,"3-7",null,"1-5",null,"3-7",null,"1-5",null,"3-7",null,null,"1-5","3-7",null,null,null,null,null,"Bottom Mergin",1]
[null,null,null,6,6,"1-6",null,"別室",null,"1-6",null,"別室",null,"1-6",null,"別室",null,null,"1-6","別室",null,null,null,null,null,"Left Mergin",1]
[null,null,null,7,7,"1-7",null,null,"1-1","1-7",null,null,"1-1","1-7",null,null,"1-1",null,"1-7","1-1",null,null,null,"中間",null,"Right Mergin",1]
[null,null,null,8,8,"2-1",null,null,"1-2","2-1",null,null,"1-2","2-1",null,null,"1-2",null,"2-1","1-2"]
[null,null,null,9,9,"2-2",null,null,"1-3","2-2",null,null,"1-3","2-2",null,null,"1-3",null,"2-2","1-3"]
[null,null,null,10,10,"2-3",null,null,"1-4","2-3",null,null,"1-4","2-3",null,null,"1-4",null,"2-3","1-4"]
[null,null,null,11,11,"2-4",null,null,"1-5","2-4",null,null,"1-5","2-4",null,null,"1-5",null,"2-4","1-5"]
[null,null,null,12,12,"2-5",null,null,"1-6","2-5",null,null,"1-6","2-5",null,null,"1-6",null,"2-5","1-6"]
[null,null,null,13,13,"2-6",null,null,"1-7","2-6",null,null,"1-7","2-6",null,null,"1-7",null,"2-6","1-7"]
[null,null,null,14,14,"2-7",null,null,"2-1","2-7",null,null,"2-1","2-7",null,null,"2-1",null,"2-7","2-1"]
[null,null,null,15,15,"3-1",null,null,"2-2","3-1",null,null,"2-2","3-1",null,null,"2-2",null,"3-1","2-2"]
[null,null,null,16,16,"3-2",null,null,"2-3","3-2",null,null,"2-3","3-2",null,null,"2-3",null,"3-2","2-3"]
[null,null,null,17,17,"3-3",null,null,"2-4","3-3",null,null,"2-4","3-3",null,null,"2-4",null,"3-3","2-4"]
[null,null,null,18,18,"3-4",null,null,"2-5","3-4",null,null,"2-5","3-4",null,null,"2-5",null,"3-4","2-5"]
[null,null,null,19,19,"3-5",null,null,"2-6","3-5",null,null,"2-6","3-5",null,null,"2-6",null,"3-5","2-6"]
[null,null,null,20,20,"3-6",null,null,"2-7","3-6",null,null,"2-7","3-6",null,null,"2-7",null,"3-6","2-7"]
[null,null,null,21,21,"3-7",null,null,"3-1","3-7",null,null,"3-1","3-7",null,null,"3-1",null,"3-7","3-1"]
[null,null,null,22,22,"別室",null,null,"3-2","別室",null,null,"3-2","別室",null,null,"3-2",null,"別室","3-2"]
[null,null,null,23,23,null,"1-1",null,"3-3",null,"1-1",null,"3-3",null,"1-1",null,"3-3","1-1",null,null,"3-3"]
[null,null,null,24,24,null,"1-2",null,"3-4",null,"1-2",null,"3-4",null,"1-2",null,"3-4","1-2",null,null,"3-4"]
[null,null,null,25,25,null,"1-3",null,"3-5",null,"1-3",null,"3-5",null,"1-3",null,"3-5","1-3",null,null,"3-5"]
[null,null,null,26,26,null,"1-4",null,"3-6",null,"1-4",null,"3-6",null,"1-4",null,"3-6","1-4",null,null,"3-6"]
[null,null,null,27,27,null,"1-5",null,"3-7",null,"1-5",null,"3-7",null,"1-5",null,"3-7","1-5",null,null,"3-7"]
[null,null,null,28,28,null,"1-6",null,"別室",null,"1-6",null,"別室",null,"1-6",null,"別室","1-6",null,null,"別室"]
[null,null,null,29,29,null,"1-7",null,null,null,"1-7",null,null,null,"1-7",null,null,"1-7"]
[null,null,null,30,30,null,"2-1",null,null,null,"2-1",null,null,null,"2-1",null,null,"2-1"]
[null,null,null,31,31,null,"2-2",null,null,null,"2-2",null,null,null,"2-2",null,null,"2-2"]
[null,null,null,32,32,null,"2-3",null,null,null,"2-3",null,null,null,"2-3",null,null,"2-3"]
[null,null,null,33,33,null,"2-4",null,null,null,"2-4",null,null,null,"2-4",null,null,"2-4"]
[null,null,null,34,34,null,"2-5",null,null,null,"2-5",null,null,null,"2-5",null,null,"2-5"]
[null,null,null,35,35,null,"2-6",null,null,null,"2-6",null,null,null,"2-6",null,null,"2-6"]
[null,null,null,36,36,null,"2-7",null,null,null,"2-7",null,null,null,"2-7",null,null,"2-7"]
[null,null,null,37,37,null,"3-1",null,null,null,"3-1",null,null,null,"3-1",null,null,"3-1"]
[null,null,null,38,38,null,"3-2",null,null,null,"3-2",null,null,null,"3-2",null,null,"3-2"]
[null,null,null,39,39,null,"3-3",null,null,null,"3-3",null,null,null,"3-3",null,null,"3-3"]
[null,null,null,40,40,null,"3-4",null,null,null,"3-4",null,null,null,"3-4",null,null,"3-4"]
[null,null,null,41,41,null,"3-5",null,null,null,"3-5",null,null,null,"3-5",null,null,"3-5"]
[null,null,null,42,42,null,"3-6",null,null,null,"3-6",null,null,null,"3-6",null,null,"3-6"]
[null,null,null,43,43,null,"3-7",null,null,null,"3-7",null,null,null,"3-7",null,null,"3-7"]
[null,null,null,44,44,null,"別室",null,null,null,"別室",null,null,null,"別室",null,null,"別室"]
[null,null,null,45,45,null,null,"1-1",null,null,null,"1-1",null,null,null,"1-1",null,null,null,null,"1-1"]
[null,null,null,46,46,null,null,"1-2",null,null,null,"1-2",null,null,null,"1-2",null,null,null,null,"1-2"]
[null,null,null,47,47,null,null,"1-3",null,null,null,"1-3",null,null,null,"1-3",null,null,null,null,"1-3"]
[null,null,null,48,48,null,null,"1-4",null,null,null,"1-4",null,null,null,"1-4",null,null,null,null,"1-4"]
[null,null,null,49,49,null,null,"1-5",null,null,null,"1-5",null,null,null,"1-5",null,null,null,null,"1-5"]
[null,null,null,50,50,null,null,"1-6",null,null,null,"1-6",null,null,null,"1-6",null,null,null,null,"1-6"]
[null,null,null,51,51,null,null,"1-7",null,null,null,"1-7",null,null,null,"1-7",null,null,null,null,"1-7"]
[null,null,null,52,52,null,null,"2-1",null,null,null,"2-1",null,null,null,"2-1",null,null,null,null,"2-1"]
[null,null,null,53,53,null,null,"2-2",null,null,null,"2-2",null,null,null,"2-2",null,null,null,null,"2-2"]
[null,null,null,54,54,null,null,"2-3",null,null,null,"2-3",null,null,null,"2-3",null,null,null,null,"2-3"]
[null,null,null,55,55,null,null,"2-4",null,null,null,"2-4",null,null,null,"2-4",null,null,null,null,"2-4"]
[null,null,null,56,56,null,null,"2-5",null,null,null,"2-5",null,null,null,"2-5",null,null,null,null,"2-5"]
[null,null,null,57,57,null,null,"2-6",null,null,null,"2-6",null,null,null,"2-6",null,null,null,null,"2-6"]
[null,null,null,58,58,null,null,"2-7",null,null,null,"2-7",null,null,null,"2-7",null,null,null,null,"2-7"]
[null,null,null,59,59,null,null,"3-1",null,null,null,"3-1",null,null,null,"3-1",null,null,null,null,"3-1"]
[null,null,null,60,60,null,null,"3-2",null,null,null,"3-2",null,null,null,"3-2",null,null,null,null,"3-2"]
[]
[null,null,null,"end"]
[null,null,null,null,null,null,"監督者が60人未満の時は、空白行を削除せず、非表示にする(60番から)"]
[]
[]
[]
[null,null,null,null,null,null,null,"非表示",null,null,"表示"]

{"sheet":"学年試験科目","index":1,"n_rows":36,"n_cols":33,"rows_kept":36,"cut":false,"hidden":false,"merged":[[0,15,0,18],[3,14,3,18],[3,24,3,28],[22,2,26,2],[22,12,26,12],[22,22,26,22],[4,2,8,2],[4,12,8,12],[4,22,8,22],[10,2,14,2],[10,12,14,12],[10,22,14,22],[16,2,20,2],[16,12,20,12],[16,22,20,22],[3,4,3,9],[34,1,34,3],[35,1,35,3],[29,1,29,4],[30,1,30,3],[31,1,31,3],[32,1,32,3],[33,1,33,3]]}
[null,2,3,4,5,6,7,8,9,10,11,12,13,14,15,"試験一覧",null,null,null,20,21,22,23,24,25,26,27,28,29,30,31,32,33]
[]
[]
[null,null,null,null,{"$f":"監督一覧!$X$7&\"年度1年\"&監督一覧!$X$10&監督一覧!$X$13&\"試験科目\"","v":"2021年度1年1学期中間試験科目"},null,null,null,null,null,null,null,null,null,{"$f":"監督一覧!$X$7&\"年度2年\"&監督一覧!$X$10&監督一覧!$X$13&\"試験科目\"","v":"2021年度2年1学期中間試験科目"},null,null,null,null,null,null,null,null,null,{"$f":"監督一覧!$X$7&\"年度3年\"&監督一覧!$X$10&監督一覧!$X$13&\"試験科目\"","v":"2021年度3年1学期中間試験科目"}]
[null,null,{"$f":"監督一覧!$F$5","v":"2021-05-20"},"時間","1-1","1-2","1-3","1-4","1-5","1-6","1-7",null,{"$f":"監督一覧!$F$5","v":"2021-05-20"},"時間","1-7","2-2","2-3","2-4","2-5","2-6","2-7",null,{"$f":"監督一覧!$F$5","v":"2021-05-20"},"時間","3-1","3-2","3-3","3-4","3-5","3-6","3-7",null,"別室"]
[null,null,null,"１限","科目109","科目109","科目109","科目109","科目109","科目109","科目109",null,null,"１限","国語","国語","国語","国語","国語","国語","国語",null,null,"１限","科目309","科目309","科目309","科目309","科目309","科目309","科目309",null,"*****"]
[null,null,null,"２限","科目110","科目110","科目110","科目110","科目110","科目110","科目110",null,null,"２限","科目209","科目209","科目209","科目209","科目209","生物","物理",null,null,"２限","科目310","科目310","科目310","科目310","科目310","科目310","科目310",null,"*****"]
[null,null,null,"３限","科目111","科目111","科目111","科目111","科目111","科目111","科目111",null,null,"３限","科目210","科目210","科目210","科目210","科目210","科目210","生物",null,null,"３限","科目311","科目311","科目311","科目311","科目311","科目311","科目311",null,"*****"]
[null,null,null,"４限","科目112","科目112","科目112","科目112","科目112","科目112","科目119",null,null,"４限","科目211","科目211","科目211","科目211","科目211","科目211","世界史",null,null,"４限","科目312","科目312","科目312","科目312","科目312","科目312","科目312",null,"*****"]
[]
[null,null,{"$f":"監督一覧!$J$5","v":"2021-05-21"},"時間","1-1","1-2","1-3","1-4","1-5","1-6","1-7",null,{"$f":"監督一覧!$J$5","v":"2021-05-21"},"時間","2-1","2-2","2-3","2-4","2-5","2-6","2-7",null,{"$f":"監督一覧!$J$5","v":"2021-05-21"},"時間","3-1","3-2","3-3","3-4","3-5","3-6","3-7",null,"別室"]
[null,null,null,"１限","科目113","科目113","科目113","科目113","科目113","科目113","科目113",null,null,"１限","科目212","科目212","科目212","科目212","科目212","科目212","科目212",null,null,"１限","科目313","科目313","科目313","科目313","科目313","科目313","科目313",null,"*****"]
[null,null,null,"２限","科目114","科目114","科目114","科目114","科目114","科目114","科目114",null,null,"２限","科目213","科目213","科目213","科目213","科目213","科目213","科目213",null,null,"２限","科目314","科目314","科目314","科目314","科目314","科目314","科目314",null,"*****"]
[null,null,null,"３限","科目115","科目115","科目115","科目115","科目115","科目115","科目115",null,null,"３限","科目214","科目214","科目214","科目214","科目214","科目214","科目214",null,null,"３限","科目315","科目315","科目315","科目315","科目315","科目315","科目315",null,"*****"]
[null,null,null,"４限","科目116","科目116","科目116","科目116","科目116","科目116","科目116",null,null,"４限","科目215","科目215","科目215","科目215","科目215","科目215","科目215",null,null,"４限","科目316","科目316","科目316","科目316","科目316","科目316","科目316",null,"*****"]
[]
[null,null,{"$f":"監督一覧!$N$5","v":"2021-05-24"},"時間","1-1","1-2","1-3","1-4","1-5","1-6","1-7",null,{"$f":"監督一覧!$N$5","v":"2021-05-24"},"時間","2-1","2-2","2-3","2-4","2-5","2-6","2-7",null,{"$f":"監督一覧!$N$5","v":"2021-05-24"},"時間","3-1","3-2","3-3","3-4","3-5","3-6","3-7",null,"別室"]
[null,null,null,"１限","科目117","科目117","科目117","科目117","科目117","科目117","科目117",null,null,"１限","科目216","科目216","科目216","科目216","科目216","科目216","科目216",null,null,"１限","科目317","科目317","科目317","科目317","科目317","科目317","科目317",null,"*****"]
[null,null,null,"２限","科目118","科目118","科目118","科目118","科目118","科目118","科目118",null,null,"２限","科目217","科目217","科目217","科目217","科目217","科目217","科目217",null,null,"２限","科目318","科目318","科目318","科目318","科目318","科目318","科目318",null,"*****"]
[null,null,null,"３限","科目119","科目119","科目119","科目119","科目119","科目119","科目119",null,null,"３限","科目218","科目218","科目218","科目218","科目218","科目218","科目218",null,null,"３限","科目319","科目319","科目319","科目319","科目319","科目319","科目319",null,"*****"]
[null,null,null,"４限","科目120","科目120","科目120","科目120","科目120","科目120","科目120",null,null,"４限","科目219","科目219","科目219","科目219","科目219","科目219","科目219",null,null,"４限","科目320","科目320","科目320","科目320","科目320","科目320","科目320",null,"*****"]
[null,null,null,null,null,"1-1"]
[null,null,{"$f":"監督一覧!$R$5","v":"2021-05-25"},"時間","1-1","1-2","1-3","1-4","1-5","1-6","1-7",null,{"$f":"監督一覧!$R$5","v":"2021-05-25"},"時間","2-1","2-2","2-3","2-4","2-5","2-6","2-7",null,{"$f":"監督一覧!$R$5","v":"2021-05-25"},"時間","3-1","3-2","3-3","3-4","3-5","3-6","3-7",null,"別室"]
[null,null,null,"１限","科目121","科目121","科目121","科目121","科目121","科目121","科目121",null,null,"１限","科目220","科目220","科目220","科目220","科目220","科目220","科目220",null,null,"１限","科目321","科目321","科目321","科目321","科目321","科目321","科目321",null,"*****"]
[null,null,null,"２限","科目122","科目122","科目122","科目122","科目122","科目122","科目122",null,null,"２限","科目221","科目221","科目221","科目221","科目221","科目221","科目221",null,null,"２限","科目322","科目322","科目322","科目322","科目322","科目322","科目322",null,"*****"]
[null,null,null,"３限","科目123","科目123","科目123","科目123","科目123","科目123","科目123",null,null,"３限","科目222","科目222","科目222","科目222","科目222","科目222","科目222",null,null,"３限","科目323","科目323","科目323","科目323","科目323","科目323","科目323",null,"*****"]
[null,null,null,"４限","科目124","科目124","科目124","科目124","科目124","科目124","科目124",null,null,"４限","科目223","科目223","科目223","科目223","科目223","科目223","科目223",null,null,"４限","科目324","科目324","科目324","科目324","科目324","科目324","科目324",null,"*****"]
[]
[]
[null,"印刷設定"]
[null,"用紙",null,null,"B4"]
[null,"倍率",null,null,1.4]
[null,"Top Margin",null,null,1]
[null,"Bottom Mergin",null,null,1]
[null,"Left Mergin",null,null,1]
[null,"Right Mergin",null,null,1]

{"sheet":"クラス監督表","index":2,"n_rows":57,"n_cols":33,"rows_kept":57,"cut":false,"hidden":false,"merged":[[15,22,23,22],[16,3,17,3],[4,28,4,30],[48,1,48,3],[49,1,49,3],[6,13,7,13],[10,13,11,13],[12,3,13,3],[12,13,13,13],[15,2,23,2],[15,12,23,12],[12,23,13,23],[16,23,17,23],[18,3,19,3],[18,13,19,13],[18,23,19,23],[10,3,11,3],[10,23,11,23],[5,2,13,2],[5,12,13,12],[5,22,13,22],[6,3,7,3],[4,25,4,27],[4,5,4,7],[4,15,4,17],[6,23,7,23],[8,3,9,3],[8,13,9,13],[8,23,9,23],[16,13,17,13],[20,3,21,3],[20,13,21,13],[20,23,21,23],[25,2,33,2],[25,12,33,12],[25,22,33,22],[26,3,27,3],[26,13,27,13],[28,3,29,3],[32,3,33,3],[32,13,33,13],[32,23,33,23],[22,3,23,3],[22,13,23,13],[22,23,23,23],[38,3,39,3],[38,13,39,13],[38,23,39,23],[54,2,54,4],[26,23,27,23],[28,13,29,13],[28,23,29,23],[30,3,31,3],[30,13,31,13],[30,23,31,23],[47,1,47,3],[50,1,50,3],[51,1,51,3],[55,2,55,4],[56,2,56,4],[40,23,41,23],[42,3,43,3],[42,13,43,13],[42,23,43,23],[40,3,41,3],[35,2,43,2],[35,12,43,12],[35,22,43,22],[36,3,37,3],[36,13,37,13],[40,13,41,13],[52,1,52,3],[46,1,46,4],[36,23,37,23]]}
[1,2,3,4,5,6,7,8,9,10,11,12,13,14,15,16,17,18,19,20,21,22,23,24,25,26,27,28,29,30,31,32,33]
[2,null,null,"完了"]
[3]
[4]
[5,null,null,null,null,"1年試験科目・監督",null,null,null,null,null,null,null,null,null,"2年試験科目・監督",null,null,null,null,null,null,null,null,null,"3年試験科目・監督",null,null,{"$f":"NOW()","v":"2021-05-18T21:04:15.600"}]
[6,null,{"$f":"監督一覧!$F$5","v":"2021-05-20"},"時間","1-1","1-2","1-3","1-4","1-5","1-6","1-7",null,{"$f":"監督一覧!$F$5","v":"2021-05-20"},"時間","2-1","2-2","2-3","2-4","2-5","2-6","2-7",null,{"$f":"監督一覧!$F$5","v":"2021-05-20"},"時間","3-1","3-2","3-3","3-4","3-5","3-6","3-7",null,"別室"]
[7,null,null,"１限",{"$f":"IF(学年試験科目!E6<>\"\",学年試験科目!E6,\"\")","v":"科目109"},{"$f":"IF(学年試験科目!F6<>\"\",学年試験科目!F6,\"\")","v":"科目109"},{"$f":"IF(学年試験科目!G6<>\"\",学年試験科目!G6,\"\")","v":"科目109"},{"$f":"IF(学年試験科目!H6<>\"\",学年試験科目!H6,\"\")","v":"科目109"},{"$f":"IF(学年試験科目!I6<>\"\",学年試験科目!I6,\"\")","v":"科目109"},{"$f":"IF(学年試験科目!J6<>\"\",学年試験科目!J6,\"\")","v":"科目109"},{"$f":"IF(学年試験科目!K6<>\"\",学年試験科目!K6,\"\")","v":"科目109"},null,null,"１限",{"$f":"IF(学年試験科目!O6<>\"\",学年試験科目!O6,\"\")","v":"国語"},{"$f":"IF(学年試験科目!P6<>\"\",学年試験科目!P6,\"\")","v":"国語"},{"$f":"IF(学年試験科目!Q6<>\"\",学年試験科目!Q6,\"\")","v":"国語"},{"$f":"IF(学年試験科目!R6<>\"\",学年試験科目!R6,\"\")","v":"国語"},{"$f":"IF(学年試験科目!S6<>\"\",学年試験科目!S6,\"\")","v":"国語"},{"$f":"IF(学年試験科目!T6<>\"\",学年試験科目!T6,\"\")","v":"国語"},{"$f":"IF(学年試験科目!U6<>\"\",学年試験科目!U6,\"\")","v":"国語"},null,null,"１限",{"$f":"IF(学年試験科目!Y6<>\"\",学年試験科目!Y6,\"\")","v":"科目309"},{"$f":"IF(学年試験科目!Z6<>\"\",学年試験科目!Z6,\"\")","v":"科目309"},{"$f":"IF(学年試験科目!AA6<>\"\",学年試験科目!AA6,\"\")","v":"科目309"},{"$f":"IF(学年試験科目!AB6<>\"\",学年試験科目!AB6,\"\")","v":"科目309"},{"$f":"IF(学年試験科目!AC6<>\"\",学年試験科目!AC6,\"\")","v":"科目309"},{"$f":"IF(学年試験科目!AD6<>\"\",学年試験科目!AD6,\"\")","v":"科目309"},{"$f":"IF(学年試験科目!AE6<>\"\",学年試験科目!AE6,\"\")","v":"科目309"},null,"*****"]
[8,null,null,null,1,2,3,4,5,6,7,null,null,null,8,9,10,11,12,13,14,null,null,null,15,16,17,18,19,20,21,null,22]
[9,null,null,"２限",{"$f":"IF(学年試験科目!E7<>\"\",学年試験科目!E7,\"\")","v":"科目110"},{"$f":"IF(学年試験科目!F7<>\"\",学年試験科目!F7,\"\")","v":"科目110"},{"$f":"IF(学年試験科目!G7<>\"\",学年試験科目!G7,\"\")","v":"科目110"},{"$f":"IF(学年試験科目!H7<>\"\",学年試験科目!H7,\"\")","v":"科目110"},{"$f":"IF(学年試験科目!I7<>\"\",学年試験科目!I7,\"\")","v":"科目110"},{"$f":"IF(学年試験科目!J7<>\"\",学年試験科目!J7,\"\")","v":"科目110"},{"$f":"IF(学年試験科目!K7<>\"\",学年試験科目!K7,\"\")","v":"科目110"},null,null,"２限",{"$f":"IF(学年試験科目!O7<>\"\",学年試験科目!O7,\"\")","v":"科目209"},{"$f":"IF(学年試験科目!P7<>\"\",学年試験科目!P7,\"\")","v":"科目209"},{"$f":"IF(学年試験科目!Q7<>\"\",学年試験科目!Q7,\"\")","v":"科目209"},{"$f":"IF(学年試験科目!R7<>\"\",学年試験科目!R7,\"\")","v":"科目209"},{"$f":"IF(学年試験科目!S7<>\"\",学年試験科目!S7,\"\")","v":"科目209"},{"$f":"IF(学年試験科目!T7<>\"\",学年試験科目!T7,\"\")","v":"生物"},{"$f":"IF(学年試験科目!U7<>\"\",学年試験科目!U7,\"\")","v":"物理"},null,null,"２限",{"$f":"IF(学年試験科目!Y7<>\"\",学年試験科目!Y7,\"\")","v":"科目310"},{"$f":"IF(学年試験科目!Z7<>\"\",学年試験科目!Z7,\"\")","v":"科目310"},{"$f":"IF(学年試験科目!AA7<>\"\",学年試験科目!AA7,\"\")","v":"科目310"},{"$f":"IF(学年試験科目!AB7<>\"\",学年試験科目!AB7,\"\")","v":"科目310"},{"$f":"IF(学年試験科目!AC7<>\"\",学年試験科目!AC7,\"\")","v":"科目310"},{"$f":"IF(学年試験科目!AD7<>\"\",学年試験科目!AD7,\"\")","v":"科目310"},{"$f":"IF(学年試験科目!AE7<>\"\",学年試験科目!AE7,\"\")","v":"科目310"},null,"*****"]
[10,null,null,null,23,24,25,26,27,28,29,null,null,null,30,31,32,33,34,35,36,null,null,null,37,38,39,40,41,42,43,null,44]
[11,null,null,"３限",{"$f":"IF(学年試験科目!E8<>\"\",学年試験科目!E8,\"\")","v":"科目111"},{"$f":"IF(学年試験科目!F8<>\"\",学年試験科目!F8,\"\")","v":"科目111"},{"$f":"IF(学年試験科目!G8<>\"\",学年試験科目!G8,\"\")","v":"科目111"},{"$f":"IF(学年試験科目!H8<>\"\",学年試験科目!H8,\"\")","v":"科目111"},{"$f":"IF(学年試験科目!I8<>\"\",学年試験科目!I8,\"\")","v":"科目111"},{"$f":"IF(学年試験科目!J8<>\"\",学年試験科目!J8,\"\")","v":"科目111"},{"$f":"IF(学年試験科目!K8<>\"\",学年試験科目!K8,\"\")","v":"科目111"},null,null,"３限",{"$f":"IF(学年試験科目!O8<>\"\",学年試験科目!O8,\"\")","v":"科目210"},{"$f":"IF(学年試験科目!P8<>\"\",学年試験科目!P8,\"\")","v":"科目210"},{"$f":"IF(学年試験科目!Q8<>\"\",学年試験科目!Q8,\"\")","v":"科目210"},{"$f":"IF(学年試験科目!R8<>\"\",学年試験科目!R8,\"\")","v":"科目210"},{"$f":"IF(学年試験科目!S8<>\"\",学年試験科目!S8,\"\")","v":"科目210"},{"$f":"IF(学年試験科目!T8<>\"\",学年試験科目!T8,\"\")","v":"科目210"},{"$f":"IF(学年試験科目!U8<>\"\",学年試験科目!U8,\"\")","v":"生物"},null,null,"３限",{"$f":"IF(学年試験科目!Y8<>\"\",学年試験科目!Y8,\"\")","v":"科目311"},{"$f":"IF(学年試験科目!Z8<>\"\",学年試験科目!Z8,\"\")","v":"科目311"},{"$f":"IF(学年試験科目!AA8<>\"\",学年試験科目!AA8,\"\")","v":"科目311"},{"$f":"IF(学年試験科目!AB8<>\"\",学年試験科目!AB8,\"\")","v":"科目311"},{"$f":"IF(学年試験科目!AC8<>\"\",学年試験科目!AC8,\"\")","v":"科目311"},{"$f":"IF(学年試験科目!AD8<>\"\",学年試験科目!AD8,\"\")","v":"科目311"},{"$f":"IF(学年試験科目!AE8<>\"\",学年試験科目!AE8,\"\")","v":"科目311"},null,"*****"]
[12,null,null,null,45,46,47,48,49,50,51,null,null,null,52,53,54,55,56,57,58,null,null,null,59,60,1,2,3,4,5,null,6]
[13,null,null,"４限",{"$f":"IF(学年試験科目!E9<>\"\",学年試験科目!E9,\"\")","v":"科目112"},{"$f":"IF(学年試験科目!F9<>\"\",学年試験科目!F9,\"\")","v":"科目112"},{"$f":"IF(学年試験科目!G9<>\"\",学年試験科目!G9,\"\")","v":"科目112"},{"$f":"IF(学年試験科目!H9<>\"\",学年試験科目!H9,\"\")","v":"科目112"},{"$f":"IF(学年試験科目!I9<>\"\",学年試験科目!I9,\"\")","v":"科目112"},{"$f":"IF(学年試験科目!J9<>\"\",学年試験科目!J9,\"\")","v":"科目112"},{"$f":"IF(学年試験科目!K9<>\"\",学年試験科目!K9,\"\")","v":"科目119"},null,null,"４限",{"$f":"IF(学年試験科目!O9<>\"\",学年試験科目!O9,\"\")","v":"科目211"},{"$f":"IF(学年試験科目!P9<>\"\",学年試験科目!P9,\"\")","v":"科目211"},{"$f":"IF(学年試験科目!Q9<>\"\",学年試験科目!Q9,\"\")","v":"科目211"},{"$f":"IF(学年試験科目!R9<>\"\",学年試験科目!R9,\"\")","v":"科目211"},{"$f":"IF(学年試験科目!S9<>\"\",学年試験科目!S9,\"\")","v":"科目211"},{"$f":"IF(学年試験科目!T9<>\"\",学年試験科目!T9,\"\")","v":"科目211"},{"$f":"IF(学年試験科目!U9<>\"\",学年試験科目!U9,\"\")","v":"世界史"},null,null,"４限",{"$f":"IF(学年試験科目!Y9<>\"\",学年試験科目!Y9,\"\")","v":"科目312"},{"$f":"IF(学年試験科目!Z9<>\"\",学年試験科目!Z9,\"\")","v":"科目312"},{"$f":"IF(学年試験科目!AA9<>\"\",学年試験科目!AA9,\"\")","v":"科目312"},{"$f":"IF(学年試験科目!AB9<>\"\",学年試験科目!AB9,\"\")","v":"科目312"},{"$f":"IF(学年試験科目!AC9<>\"\",学年試験科目!AC9,\"\")","v":"科目312"},{"$f":"IF(学年試験科目!AD9<>\"\",学年試験科目!AD9,\"\")","v":"科目312"},{"$f":"IF(学年試験科目!AE9<>\"\",学年試験科目!AE9,\"\")","v":"科目312"},null,"*****"]
[14,null,null,null,7,8,9,10,11,12,13,null,null,null,14,15,16,17,18,19,20,null,null,null,21,22,23,24,25,26,27,null,28]
[15]
[16,null,{"$f":"監督一覧!$J$5","v":"2021-05-21"},"時間","1-1","1-2","1-3","1-4","1-5","1-6","1-7",null,{"$f":"監督一覧!$J$5","v":"2021-05-21"},"時間","2-1","2-2","2-3","2-4","2-5","2-6","2-7",null,{"$f":"監督一覧!$J$5","v":"2021-05-21"},"時間","3-1","3-2","3-3","3-4","3-5","3-6","3-7",null,"別室"]
[17,null,null,"１限",{"$f":"IF(学年試験科目!E12<>\"\",学年試験科目!E12,\"\")","v":"科目113"},{"$f":"IF(学年試験科目!F12<>\"\",学年試験科目!F12,\"\")","v":"科目113"},{"$f":"IF(学年試験科目!G12<>\"\",学年試験科目!G12,\"\")","v":"科目113"},{"$f":"IF(学年試験科目!H12<>\"\",学年試験科目!H12,\"\")","v":"科目113"},{"$f":"IF(学年試験科目!I12<>\"\",学年試験科目!I12,\"\")","v":"科目113"},{"$f":"IF(学年試験科目!J12<>\"\",学年試験科目!J12,\"\")","v":"科目113"},{"$f":"IF(学年試験科目!K12<>\"\",学年試験科目!K12,\"\")","v":"科目113"},null,null,"１限",{"$f":"IF(学年試験科目!O12<>\"\",学年試験科目!O12,\"\")","v":"科目212"},{"$f":"IF(学年試験科目!P12<>\"\",学年試験科目!P12,\"\")","v":"科目212"},{"$f":"IF(学年試験科目!Q12<>\"\",学年試験科目!Q12,\"\")","v":"科目212"},{"$f":"IF(学年試験科目!R12<>\"\",学年試験科目!R12,\"\")","v":"科目212"},{"$f":"IF(学年試験科目!S12<>\"\",学年試験科目!S12,\"\")","v":"科目212"},{"$f":"IF(学年試験科目!T12<>\"\",学年試験科目!T12,\"\")","v":"科目212"},{"$f":"IF(学年試験科目!U12<>\"\",学年試験科目!U12,\"\")","v":"科目212"},null,null,"１限",{"$f":"IF(学年試験科目!Y12>\"\",学年試験科目!Y12,\"\")","v":"科目313"},{"$f":"IF(学年試験科目!Z12>\"\",学年試験科目!Z12,\"\")","v":"科目313"},{"$f":"IF(学年試験科目!AA12>\"\",学年試験科目!AA12,\"\")","v":"科目313"},{"$f":"IF(学年試験科目!AB12>\"\",学年試験科目!AB12,\"\")","v":"科目313"},{"$f":"IF(学年試験科目!AC12>\"\",学年試験科目!AC12,\"\")","v":"科目313"},{"$f":"IF(学年試験科目!AD12>\"\",学年試験科目!AD12,\"\")","v":"科目313"},{"$f":"IF(学年試験科目!AE12>\"\",学年試験科目!AE12,\"\")","v":"科目313"},null,"*****"]
[18,null,null,null,1,2,3,4,5,6,7,null,null,null,8,9,10,11,12,13,14,null,null,null,15,16,17,18,19,20,21,null,22]
[19,null,null,"２限",{"$f":"IF(学年試験科目!E13<>\"\",学年試験科目!E13,\"\")","v":"科目114"},{"$f":"IF(学年試験科目!F13<>\"\",学年試験科目!F13,\"\")","v":"科目114"},{"$f":"IF(学年試験科目!G13<>\"\",学年試験科目!G13,\"\")","v":"科目114"},{"$f":"IF(学年試験科目!H13<>\"\",学年試験科目!H13,\"\")","v":"科目114"},{"$f":"IF(学年試験科目!I13<>\"\",学年試験科目!I13,\"\")","v":"科目114"},{"$f":"IF(学年試験科目!J13<>\"\",学年試験科目!J13,\"\")","v":"科目114"},{"$f":"IF(学年試験科目!K13<>\"\",学年試験科目!K13,\"\")","v":"科目114"},null,null,"２限",{"$f":"IF(学年試験科目!O13<>\"\",学年試験科目!O13,\"\")","v":"科目213"},{"$f":"IF(学年試験科目!P13<>\"\",学年試験科目!P13,\"\")","v":"科目213"},{"$f":"IF(学年試験科目!Q13<>\"\",学年試験科目!Q13,\"\")","v":"科目213"},{"$f":"IF(学年試験科目!R13<>\"\",学年試験科目!R13,\"\")","v":"科目213"},{"$f":"IF(学年試験科目!S13<>\"\",学年試験科目!S13,\"\")","v":"科目213"},{"$f":"IF(学年試験科目!T13<>\"\",学年試験科目!T13,\"\")","v":"科目213"},{"$f":"IF(学年試験科目!U13<>\"\",学年試験科目!U13,\"\")","v":"科目213"},null,null,"２限",{"$f":"IF(学年試験科目!Y13<>\"\",学年試験科目!Y13,\"\")","v":"科目314"},{"$f":"IF(学年試験科目!Z13<>\"\",学年試験科目!Z13,\"\")","v":"科目314"},{"$f":"IF(学年試験科目!AA13<>\"\",学年試験科目!AA13,\"\")","v":"科目314"},{"$f":"IF(学年試験科目!AB13<>\"\",学年試験科目!AB13,\"\")","v":"科目314"},{"$f":"IF(学年試験科目!AC13<>\"\",学年試験科目!AC13,\"\")","v":"科目314"},{"$f":"IF(学年試験科目!AD13<>\"\",学年試験科目!AD13,\"\")","v":"科目314"},{"$f":"IF(学年試験科目!AE13<>\"\",学年試験科目!AE13,\"\")","v":"科目314"},null,"*****"]
[20,null,null,null,23,24,25,26,27,28,29,null,null,null,30,31,32,33,34,35,36,null,null,null,37,38,39,40,41,42,43,null,44]
[21,null,null,"３限",{"$f":"IF(学年試験科目!E14<>\"\",学年試験科目!E14,\"\")","v":"科目115"},{"$f":"IF(学年試験科目!F14<>\"\",学年試験科目!F14,\"\")","v":"科目115"},{"$f":"IF(学年試験科目!G14<>\"\",学年試験科目!G14,\"\")","v":"科目115"},{"$f":"IF(学年試験科目!H14<>\"\",学年試験科目!H14,\"\")","v":"科目115"},{"$f":"IF(学年試験科目!I14<>\"\",学年試験科目!I14,\"\")","v":"科目115"},{"$f":"IF(学年試験科目!J14<>\"\",学年試験科目!J14,\"\")","v":"科目115"},{"$f":"IF(学年試験科目!K14<>\"\",学年試験科目!K14,\"\")","v":"科目115"},null,null,"３限",{"$f":"IF(学年試験科目!O14<>\"\",学年試験科目!O14,\"\")","v":"科目214"},{"$f":"IF(学年試験科目!P14<>\"\",学年試験科目!P14,\"\")","v":"科目214"},{"$f":"IF(学年試験科目!Q14<>\"\",学年試験科目!Q14,\"\")","v":"科目214"},{"$f":"IF(学年試験科目!R14<>\"\",学年試験科目!R14,\"\")","v":"科目214"},{"$f":"IF(学年試験科目!S14<>\"\",学年試験科目!S14,\"\")","v":"科目214"},{"$f":"IF(学年試験科目!T14<>\"\",学年試験科目!T14,\"\")","v":"科目214"},{"$f":"IF(学年試験科目!U14<>\"\",学年試験科目!U14,\"\")","v":"科目214"},null,null,"３限",{"$f":"IF(学年試験科目!Y14<>\"\",学年試験科目!Y14,\"\")","v":"科目315"},{"$f":"IF(学年試験科目!Z14<>\"\",学年試験科目!Z14,\"\")","v":"科目315"},{"$f":"IF(学年試験科目!AA14<>\"\",学年試験科目!AA14,\"\")","v":"科目315"},{"$f":"IF(学年試験科目!AB14<>\"\",学年試験科目!AB14,\"\")","v":"科目315"},{"$f":"IF(学年試験科目!AC14<>\"\",学年試験科目!AC14,\"\")","v":"科目315"},{"$f":"IF(学年試験科目!AD14<>\"\",学年試験科目!AD14,\"\")","v":"科目315"},{"$f":"IF(学年試験科目!AE14<>\"\",学年試験科目!AE14,\"\")","v":"科目315"},null,"*****"]
[22,null,null,null,45,46,47,48,49,50,51,null,null,null,52,53,54,55,56,57,58,null,null,null,59,60,1,2,3,4,5,null,6]
[23,null,null,"４限",{"$f":"IF(学年試験科目!E15<>\"\",学年試験科目!E15,\"\")","v":"科目116"},{"$f":"IF(学年試験科目!F15<>\"\",学年試験科目!F15,\"\")","v":"科目116"},{"$f":"IF(学年試験科目!G15<>\"\",学年試験科目!G15,\"\")","v":"科目116"},{"$f":"IF(学年試験科目!H15<>\"\",学年試験科目!H15,\"\")","v":"科目116"},{"$f":"IF(学年試験科目!I15<>\"\",学年試験科目!I15,\"\")","v":"科目116"},{"$f":"IF(学年試験科目!J15<>\"\",学年試験科目!J15,\"\")","v":"科目116"},{"$f":"IF(学年試験科目!K15<>\"\",学年試験科目!K15,\"\")","v":"科目116"},null,null,"４限",{"$f":"IF(学年試験科目!O15<>\"\",学年試験科目!O15,\"\")","v":"科目215"},{"$f":"IF(学年試験科目!P15<>\"\",学年試験科目!P15,\"\")","v":"科目215"},{"$f":"IF(学年試験科目!Q15<>\"\",学年試験科目!Q15,\"\")","v":"科目215"},{"$f":"IF(学年試験科目!R15<>\"\",学年試験科目!R15,\"\")","v":"科目215"},{"$f":"IF(学年試験科目!S15<>\"\",学年試験科目!S15,\"\")","v":"科目215"},{"$f":"IF(学年試験科目!T15<>\"\",学年試験科目!T15,\"\")","v":"科目215"},{"$f":"IF(学年試験科目!U15<>\"\",学年試験科目!U15,\"\")","v":"科目215"},null,null,"４限",{"$f":"IF(学年試験科目!Y15<>\"\",学年試験科目!Y15,\"\")","v":"科目316"},{"$f":"IF(学年試験科目!Z15<>\"\",学年試験科目!Z15,\"\")","v":"科目316"},{"$f":"IF(学年試験科目!AA15<>\"\",学年試験科目!AA15,\"\")","v":"科目316"},{"$f":"IF(学年試験科目!AB15<>\"\",学年試験科目!AB15,\"\")","v":"科目316"},{"$f":"IF(学年試験科目!AC15<>\"\",学年試験科目!AC15,\"\")","v":"科目316"},{"$f":"IF(学年試験科目!AD15<>\"\",学年試験科目!AD15,\"\")","v":"科目316"},{"$f":"IF(学年試験科目!AE15<>\"\",学年試験科目!AE15,\"\")","v":"科目316"},null,"*****"]
[24,null,null,null,7,8,9,10,11,12,13,null,null,null,14,15,16,17,18,19,20,null,null,null,21,22,23,24,25,26,27,null,28]
[25]
[26,null,{"$f":"監督一覧!$N$5","v":"2021-05-24"},"時間","1-1","1-2","1-3","1-4","1-5","1-6","1-7",null,{"$f":"監督一覧!$N$5","v":"2021-05-24"},"時間","2-1","2-6","2-3","2-4","2-5","2-6","2-7",null,{"$f":"監督一覧!$N$5","v":"2021-05-24"},"時間","3-1","3-2","3-3","3-4","3-5","3-6","3-7",null,"別室"]
[27,null,null,"１限",{"$f":"IF(学年試験科目!E18<>\"\",学年試験科目!E18,\"\")","v":"科目117"},{"$f":"IF(学年試験科目!F18<>\"\",学年試験科目!F18,\"\")","v":"科目117"},{"$f":"IF(学年試験科目!G18<>\"\",学年試験科目!G18,\"\")","v":"科目117"},{"$f":"IF(学年試験科目!H18<>\"\",学年試験科目!H18,\"\")","v":"科目117"},{"$f":"IF(学年試験科目!I18<>\"\",学年試験科目!I18,\"\")","v":"科目117"},{"$f":"IF(学年試験科目!J18<>\"\",学年試験科目!J18,\"\")","v":"科目117"},{"$f":"IF(学年試験科目!K18<>\"\",学年試験科目!K18,\"\")","v":"科目117"},null,null,"１限",{"$f":"IF(学年試験科目!O18<>\"\",学年試験科目!O18,\"\")","v":"科目216"},{"$f":"IF(学年試験科目!P18<>\"\",学年試験科目!P18,\"\")","v":"科目216"},{"$f":"IF(学年試験科目!Q18<>\"\",学年試験科目!Q18,\"\")","v":"科目216"},{"$f":"IF(学年試験科目!R18<>\"\",学年試験科目!R18,\"\")","v":"科目216"},{"$f":"IF(学年試験科目!S18<>\"\",学年試験科目!S18,\"\")","v":"科目216"},{"$f":"IF(学年試験科目!T18<>\"\",学年試験科目!T18,\"\")","v":"科目216"},{"$f":"IF(学年試験科目!U18<>\"\",学年試験科目!U18,\"\")","v":"科目216"},null,null,"１限",{"$f":"IF(学年試験科目!Y18<>\"\",学年試験科目!Y18,\"\")","v":"科目317"},{"$f":"IF(学年試験科目!Z18<>\"\",学年試験科目!Z18,\"\")","v":"科目317"},{"$f":"IF(学年試験科目!AA18<>\"\",学年試験科目!AA18,\"\")","v":"科目317"},{"$f":"IF(学年試験科目!AB18<>\"\",学年試験科目!AB18,\"\")","v":"科目317"},{"$f":"IF(学年試験科目!AC18<>\"\",学年試験科目!AC18,\"\")","v":"科目317"},{"$f":"IF(学年試験科目!AD18<>\"\",学年試験科目!AD18,\"\")","v":"科目317"},{"$f":"IF(学年試験科目!AE18<>\"\",学年試験科目!AE18,\"\")","v":"科目317"},null,"*****"]
[28,null,null,null,1,2,3,4,5,6,7,null,null,null,8,9,10,11,12,13,14,null,null,null,15,16,17,18,19,20,21,null,22]
[29,null,null,"２限",{"$f":"IF(学年試験科目!E19<>\"\",学年試験科目!E19,\"\")","v":"科目118"},{"$f":"IF(学年試験科目!F19<>\"\",学年試験科目!F19,\"\")","v":"科目118"},{"$f":"IF(学年試験科目!G19<>\"\",学年試験科目!G19,\"\")","v":"科目118"},{"$f":"IF(学年試験科目!H19<>\"\",学年試験科目!H19,\"\")","v":"科目118"},{"$f":"IF(学年試験科目!I19<>\"\",学年試験科目!I19,\"\")","v":"科目118"},{"$f":"IF(学年試験科目!J19<>\"\",学年試験科目!J19,\"\")","v":"科目118"},{"$f":"IF(学年試験科目!K19<>\"\",学年試験科目!K19,\"\")","v":"科目118"},null,null,"２限",{"$f":"IF(学年試験科目!O19<>\"\",学年試験科目!O19,\"\")","v":"科目217"},{"$f":"IF(学年試験科目!P19<>\"\",学年試験科目!P19,\"\")","v":"科目217"},{"$f":"IF(学年試験科目!Q19<>\"\",学年試験科目!Q19,\"\")","v":"科目217"},{"$f":"IF(学年試験科目!R19<>\"\",学年試験科目!R19,\"\")","v":"科目217"},{"$f":"IF(学年試験科目!S19<>\"\",学年試験科目!S19,\"\")","v":"科目217"},{"$f":"IF(学年試験科目!T19<>\"\",学年試験科目!T19,\"\")","v":"科目217"},{"$f":"IF(学年試験科目!U19<>\"\",学年試験科目!U19,\"\")","v":"科目217"},null,null,"２限",{"$f":"IF(学年試験科目!Y19<>\"\",学年試験科目!Y19,\"\")","v":"科目318"},{"$f":"IF(学年試験科目!Z19<>\"\",学年試験科目!Z19,\"\")","v":"科目318"},{"$f":"IF(学年試験科目!AA19<>\"\",学年試験科目!AA19,\"\")","v":"科目318"},{"$f":"IF(学年試験科目!AB19<>\"\",学年試験科目!AB19,\"\")","v":"科目318"},{"$f":"IF(学年試験科目!AC19<>\"\",学年試験科目!AC19,\"\")","v":"科目318"},{"$f":"IF(学年試験科目!AD19<>\"\",学年試験科目!AD19,\"\")","v":"科目318"},{"$f":"IF(学年試験科目!AE19<>\"\",学年試験科目!AE19,\"\")","v":"科目318"},null,"*****"]
[30,null,null,null,23,24,25,26,27,28,29,null,null,null,30,31,32,33,34,35,36,null,null,null,37,38,39,40,41,42,43,null,44]
[31,null,null,"３限",{"$f":"IF(学年試験科目!E20<>\"\",学年試験科目!E20,\"\")","v":"科目119"},{"$f":"IF(学年試験科目!F20<>\"\",学年試験科目!F20,\"\")","v":"科目119"},{"$f":"IF(学年試験科目!G20<>\"\",学年試験科目!G20,\"\")","v":"科目119"},{"$f":"IF(学年試験科目!H20<>\"\",学年試験科目!H20,\"\")","v":"科目119"},{"$f":"IF(学年試験科目!I20<>\"\",学年試験科目!I20,\"\")","v":"科目119"},{"$f":"IF(学年試験科目!J20<>\"\",学年試験科目!J20,\"\")","v":"科目119"},{"$f":"IF(学年試験科目!K20<>\"\",学年試験科目!K20,\"\")","v":"科目119"},null,null,"３限",{"$f":"IF(学年試験科目!O20<>\"\",学年試験科目!O20,\"\")","v":"科目218"},{"$f":"IF(学年試験科目!P20<>\"\",学年試験科目!P20,\"\")","v":"科目218"},{"$f":"IF(学年試験科目!Q20<>\"\",学年試験科目!Q20,\"\")","v":"科目218"},{"$f":"IF(学年試験科目!R20<>\"\",学年試験科目!R20,\"\")","v":"科目218"},{"$f":"IF(学年試験科目!S20<>\"\",学年試験科目!S20,\"\")","v":"科目218"},{"$f":"IF(学年試験科目!T20<>\"\",学年試験科目!T20,\"\")","v":"科目218"},{"$f":"IF(学年試験科目!U20<>\"\",学年試験科目!U20,\"\")","v":"科目218"},null,null,"３限",{"$f":"IF(学年試験科目!Y20<>\"\",学年試験科目!Y20,\"\")","v":"科目319"},{"$f":"IF(学年試験科目!Z20<>\"\",学年試験科目!Z20,\"\")","v":"科目319"},{"$f":"IF(学年試験科目!AA20<>\"\",学年試験科目!AA20,\"\")","v":"科目319"},{"$f":"IF(学年試験科目!AB20<>\"\",学年試験科目!AB20,\"\")","v":"科目319"},{"$f":"IF(学年試験科目!AC20<>\"\",学年試験科目!AC20,\"\")","v":"科目319"},{"$f":"IF(学年試験科目!AD20<>\"\",学年試験科目!AD20,\"\")","v":"科目319"},{"$f":"IF(学年試験科目!AE20<>\"\",学年試験科目!AE20,\"\")","v":"科目319"},null,"*****"]
[32,null,null,null,45,46,47,48,49,50,51,null,null,null,52,53,54,55,56,57,58,null,null,null,59,60,1,2,3,4,5,null,6]
[33,null,null,"４限",{"$f":"IF(学年試験科目!E21<>\"\",学年試験科目!E21,\"\")","v":"科目120"},{"$f":"IF(学年試験科目!F21<>\"\",学年試験科目!F21,\"\")","v":"科目120"},{"$f":"IF(学年試験科目!G21<>\"\",学年試験科目!G21,\"\")","v":"科目120"},{"$f":"IF(学年試験科目!H21<>\"\",学年試験科目!H21,\"\")","v":"科目120"},{"$f":"IF(学年試験科目!I21<>\"\",学年試験科目!I21,\"\")","v":"科目120"},{"$f":"IF(学年試験科目!J21<>\"\",学年試験科目!J21,\"\")","v":"科目120"},{"$f":"IF(学年試験科目!K21<>\"\",学年試験科目!K21,\"\")","v":"科目120"},null,null,"４限",{"$f":"IF(学年試験科目!O21<>\"\",学年試験科目!O21,\"\")","v":"科目219"},{"$f":"IF(学年試験科目!P21<>\"\",学年試験科目!P21,\"\")","v":"科目219"},{"$f":"IF(学年試験科目!Q21<>\"\",学年試験科目!Q21,\"\")","v":"科目219"},{"$f":"IF(学年試験科目!R21<>\"\",学年試験科目!R21,\"\")","v":"科目219"},{"$f":"IF(学年試験科目!S21<>\"\",学年試験科目!S21,\"\")","v":"科目219"},{"$f":"IF(学年試験科目!T21<>\"\",学年試験科目!T21,\"\")","v":"科目219"},{"$f":"IF(学年試験科目!U21<>\"\",学年試験科目!U21,\"\")","v":"科目219"},null,null,"４限",{"$f":"IF(学年試験科目!Y21>\"\",学年試験科目!Y21,\"\")","v":"科目320"},{"$f":"IF(学年試験科目!Z21>\"\",学年試験科目!Z21,\"\")","v":"科目320"},{"$f":"IF(学年試験科目!AA21>\"\",学年試験科目!AA21,\"\")","v":"科目320"},{"$f":"IF(学年試験科目!AB21>\"\",学年試験科目!AB21,\"\")","v":"科目320"},{"$f":"IF(学年試験科目!AC21>\"\",学年試験科目!AC21,\"\")","v":"科目320"},{"$f":"IF(学年試験科目!AD21>\"\",学年試験科目!AD21,\"\")","v":"科目320"},{"$f":"IF(学年試験科目!AE21>\"\",学年試験科目!AE21,\"\")","v":"科目320"},null,"*****"]
[34,null,null,null,7,8,9,10,11,12,13,null,null,null,14,15,16,17,18,19,20,null,null,null,21,22,23,24,25,26,27,null,28]
[35]
[36,null,{"$f":"監督一覧!$R$5","v":"2021-05-25"},"時間","1-1","1-2","1-3","1-4","1-5","1-6","1-7",null,{"$f":"監督一覧!$R$5","v":"2021-05-25"},"時間","2-1","2-6","2-3","2-4","2-5","2-6","2-7",null,{"$f":"監督一覧!$R$5","v":"2021-05-25"},"時間","3-1","3-2","3-3","3-4","3-5","3-6","3-7",null,"別室"]
[37,null,null,"１限",{"$f":"IF(学年試験科目!E24<>\"\",学年試験科目!E24,\"\")","v":"科目121"},{"$f":"IF(学年試験科目!F24<>\"\",学年試験科目!F24,\"\")","v":"科目121"},{"$f":"IF(学年試験科目!G24<>\"\",学年試験科目!G24,\"\")","v":"科目121"},{"$f":"IF(学年試験科目!H24<>\"\",学年試験科目!H24,\"\")","v":"科目121"},{"$f":"IF(学年試験科目!I24<>\"\",学年試験科目!I24,\"\")","v":"科目121"},{"$f":"IF(学年試験科目!J24<>\"\",学年試験科目!J24,\"\")","v":"科目121"},{"$f":"IF(学年試験科目!K24<>\"\",学年試験科目!K24,\"\")","v":"科目121"},null,null,"１限",{"$f":"IF(学年試験科目!O24<>\"\",学年試験科目!O24,\"\")","v":"科目220"},{"$f":"IF(学年試験科目!P24<>\"\",学年試験科目!P24,\"\")","v":"科目220"},{"$f":"IF(学年試験科目!Q24<>\"\",学年試験科目!Q24,\"\")","v":"科目220"},{"$f":"IF(学年試験科目!R24<>\"\",学年試験科目!R24,\"\")","v":"科目220"},{"$f":"IF(学年試験科目!S24<>\"\",学年試験科目!S24,\"\")","v":"科目220"},{"$f":"IF(学年試験科目!T24<>\"\",学年試験科目!T24,\"\")","v":"科目220"},{"$f":"IF(学年試験科目!U24<>\"\",学年試験科目!U24,\"\")","v":"科目220"},null,null,"１限",{"$f":"IF(学年試験科目!Y24<>\"\",学年試験科目!Y24,\"\")","v":"科目321"},{"$f":"IF(学年試験科目!Z24<>\"\",学年試験科目!Z24,\"\")","v":"科目321"},{"$f":"IF(学年試験科目!AA24<>\"\",学年試験科目!AA24,\"\")","v":"科目321"},{"$f":"IF(学年試験科目!AB24<>\"\",学年試験科目!AB24,\"\")","v":"科目321"},{"$f":"IF(学年試験科目!AC24<>\"\",学年試験科目!AC24,\"\")","v":"科目321"},{"$f":"IF(学年試験科目!AD24<>\"\",学年試験科目!AD24,\"\")","v":"科目321"},{"$f":"IF(学年試験科目!AE24<>\"\",学年試験科目!AE24,\"\")","v":"科目321"},null,"*****"]
[38,null,null,null,23,24,25,26,27,28,29,null,null,null,30,31,32,33,34,35,36,null,null,null,37,38,39,40,41,42,43,null,44]
[39,null,null,"２限",{"$f":"IF(学年試験科目!E25<>\"\",学年試験科目!E25,\"\")","v":"科目122"},{"$f":"IF(学年試験科目!F25<>\"\",学年試験科目!F25,\"\")","v":"科目122"},{"$f":"IF(学年試験科目!G25<>\"\",学年試験科目!G25,\"\")","v":"科目122"},{"$f":"IF(学年試験科目!H25<>\"\",学年試験科目!H25,\"\")","v":"科目122"},{"$f":"IF(学年試験科目!I25<>\"\",学年試験科目!I25,\"\")","v":"科目122"},{"$f":"IF(学年試験科目!J25<>\"\",学年試験科目!J25,\"\")","v":"科目122"},{"$f":"IF(学年試験科目!K25<>\"\",学年試験科目!K25,\"\")","v":"科目122"},null,null,"２限",{"$f":"IF(学年試験科目!O25<>\"\",学年試験科目!O25,\"\")","v":"科目221"},{"$f":"IF(学年試験科目!P25<>\"\",学年試験科目!P25,\"\")","v":"科目221"},{"$f":"IF(学年試験科目!Q25<>\"\",学年試験科目!Q25,\"\")","v":"科目221"},{"$f":"IF(学年試験科目!R25<>\"\",学年試験科目!R25,\"\")","v":"科目221"},{"$f":"IF(学年試験科目!S25<>\"\",学年試験科目!S25,\"\")","v":"科目221"},{"$f":"IF(学年試験科目!T25<>\"\",学年試験科目!T25,\"\")","v":"科目221"},{"$f":"IF(学年試験科目!U25<>\"\",学年試験科目!U25,\"\")","v":"科目221"},null,null,"２限",{"$f":"IF(学年試験科目!Y25<>\"\",学年試験科目!Y25,\"\")","v":"科目322"},{"$f":"IF(学年試験科目!Z25<>\"\",学年試験科目!Z25,\"\")","v":"科目322"},{"$f":"IF(学年試験科目!AA25<>\"\",学年試験科目!AA25,\"\")","v":"科目322"},{"$f":"IF(学年試験科目!AB25<>\"\",学年試験科目!AB25,\"\")","v":"科目322"},{"$f":"IF(学年試験科目!AC25<>\"\",学年試験科目!AC25,\"\")","v":"科目322"},{"$f":"IF(学年試験科目!AD25<>\"\",学年試験科目!AD25,\"\")","v":"科目322"},{"$f":"IF(学年試験科目!AE25<>\"\",学年試験科目!AE25,\"\")","v":"科目322"},null,"*****"]
[40,null,null,null,1,2,3,4,5,6,7,null,null,null,8,9,10,11,12,13,14,null,null,null,15,16,17,18,19,20,21,null,22]
[41,null,null,"３限",{"$f":"IF(学年試験科目!E26<>\"\",学年試験科目!E26,\"\")","v":"科目123"},{"$f":"IF(学年試験科目!F26<>\"\",学年試験科目!F26,\"\")","v":"科目123"},{"$f":"IF(学年試験科目!G26<>\"\",学年試験科目!G26,\"\")","v":"科目123"},{"$f":"IF(学年試験科目!H26<>\"\",学年試験科目!H26,\"\")","v":"科目123"},{"$f":"IF(学年試験科目!I26<>\"\",学年試験科目!I26,\"\")","v":"科目123"},{"$f":"IF(学年試験科目!J26<>\"\",学年試験科目!J26,\"\")","v":"科目123"},{"$f":"IF(学年試験科目!K26<>\"\",学年試験科目!K26,\"\")","v":"科目123"},null,null,"３限",{"$f":"IF(学年試験科目!O26<>\"\",学年試験科目!O26,\"\")","v":"科目222"},{"$f":"IF(学年試験科目!P26<>\"\",学年試験科目!P26,\"\")","v":"科目222"},{"$f":"IF(学年試験科目!Q26<>\"\",学年試験科目!Q26,\"\")","v":"科目222"},{"$f":"IF(学年試験科目!R26<>\"\",学年試験科目!R26,\"\")","v":"科目222"},{"$f":"IF(学年試験科目!S26<>\"\",学年試験科目!S26,\"\")","v":"科目222"},{"$f":"IF(学年試験科目!T26<>\"\",学年試験科目!T26,\"\")","v":"科目222"},{"$f":"IF(学年試験科目!U26<>\"\",学年試験科目!U26,\"\")","v":"科目222"},null,null,"３限",{"$f":"IF(学年試験科目!Y26<>\"\",学年試験科目!Y26,\"\")","v":"科目323"},{"$f":"IF(学年試験科目!Z26<>\"\",学年試験科目!Z26,\"\")","v":"科目323"},{"$f":"IF(学年試験科目!AA26<>\"\",学年試験科目!AA26,\"\")","v":"科目323"},{"$f":"IF(学年試験科目!AB26<>\"\",学年試験科目!AB26,\"\")","v":"科目323"},{"$f":"IF(学年試験科目!AC26<>\"\",学年試験科目!AC26,\"\")","v":"科目323"},{"$f":"IF(学年試験科目!AD26<>\"\",学年試験科目!AD26,\"\")","v":"科目323"},{"$f":"IF(学年試験科目!AE26<>\"\",学年試験科目!AE26,\"\")","v":"科目323"},null,"*****"]
[42,null,null,null,7,8,9,10,11,12,13,null,null,null,14,15,16,17,18,19,20,null,null,null,21,22,1,2,3,4,5,null,6]
[43,null,null,"４限",{"$f":"IF(学年試験科目!E27<>\"\",学年試験科目!E27,\"\")","v":"科目124"},{"$f":"IF(学年試験科目!F27<>\"\",学年試験科目!F27,\"\")","v":"科目124"},{"$f":"IF(学年試験科目!G27<>\"\",学年試験科目!G27,\"\")","v":"科目124"},{"$f":"IF(学年試験科目!H27<>\"\",学年試験科目!H27,\"\")","v":"科目124"},{"$f":"IF(学年試験科目!I27<>\"\",学年試験科目!I27,\"\")","v":"科目124"},{"$f":"IF(学年試験科目!J27<>\"\",学年試験科目!J27,\"\")","v":"科目124"},{"$f":"IF(学年試験科目!K27<>\"\",学年試験科目!K27,\"\")","v":"科目124"},null,null,"４限",{"$f":"IF(学年試験科目!O27<>\"\",学年試験科目!O27,\"\")","v":"科目223"},{"$f":"IF(学年試験科目!P27<>\"\",学年試験科目!P27,\"\")","v":"科目223"},{"$f":"IF(学年試験科目!Q27<>\"\",学年試験科目!Q27,\"\")","v":"科目223"},{"$f":"IF(学年試験科目!R27<>\"\",学年試験科目!R27,\"\")","v":"科目223"},{"$f":"IF(学年試験科目!S27<>\"\",学年試験科目!S27,\"\")","v":"科目223"},{"$f":"IF(学年試験科目!T27<>\"\",学年試験科目!T27,\"\")","v":"科目223"},{"$f":"IF(学年試験科目!U27<>\"\",学年試験科目!U27,\"\")","v":"科目223"},null,null,"４限",{"$f":"IF(学年試験科目!Y27<>\"\",学年試験科目!Y27,\"\")","v":"科目324"},{"$f":"IF(学年試験科目!Z27<>\"\",学年試験科目!Z27,\"\")","v":"科目324"},{"$f":"IF(学年試験科目!AA27<>\"\",学年試験科目!AA27,\"\")","v":"科目324"},{"$f":"IF(学年試験科目!AB27<>\"\",学年試験科目!AB27,\"\")","v":"科目324"},{"$f":"IF(学年試験科目!AC27<>\"\",学年試験科目!AC27,\"\")","v":"科目324"},{"$f":"IF(学年試験科目!AD27<>\"\",学年試験科目!AD27,\"\")","v":"科目324"},{"$f":"IF(学年試験科目!AE27<>\"\",学年試験科目!AE27,\"\")","v":"科目324"},null,"*****"]
[44,null,null,null,45,46,47,48,49,50,51,null,null,null,52,53,54,55,56,57,58,null,null,null,59,60,23,24,25,26,27,null,28]
[45]
[46]
[47,"印刷設定"]
[48,"用紙",null,null,"B4"]
[49,"倍率",null,null,0.6]
[50,"Top Margin",null,null,0.1]
[51,"Bottom Mergin",null,null,0.1]
[52,"Left Mergin",null,null,0.1]
[53,"Right Mergin",null,null,0.1]
[]
[null,null,"A4--0.5程度"]
[null,null,"B4--0.6倍程度"]
[null,null,"A3--0.75倍程度"]

{"sheet":"選択項目一覧","index":3,"n_rows":32,"n_cols":17,"rows_kept":32,"cut":false,"hidden":false,"merged":[[13,16,14,18],[31,0,31,14],[0,5,0,7],[0,9,0,11],[0,13,0,15],[0,1,0,3]]}
[null,"学年・クラス選択リスト",null,null,null,"１年科目選択リスト",null,null,null,"２年科目選択リスト",null,null,null,"３年科目選択リスト"]
[null,null,"1-1",null,null,1,"国語",null,null,1,"国語",null,null,1,"国語"]
[null,null,"1-2",null,null,2,"古典",null,null,2,"日本史",null,null,2,"世界史"]
[null,null,"1-3",null,"マウス",3,"漢文",null,null,3,"数学Ⅱ",null,null,3,"日本史"]
[null,null,"1-4",null,null,4,"地理",null,null,4,"化学",null,null,4,"物理"]
[null,null,"1-5",null,null,5,"公民",null,null,5,"物理",null,null,5,"科学"]
[null,null,"1-6",null,null,6,"生物基礎",null,null,6,"生物",null,null,6,"生物"]
[null,null,"1-7",null,null,7,"物理基礎",null,null,7,"世界史",null,null,7,"数学Ⅲ"]
[null,null,"2-1",null,null,8,"科学基礎",null,null,8,"科目208",null,null,8,"応用数学"]
[null,null,"2-2",null,null,9,"科目109",null,null,9,"科目209",null,null,9,"科目309"]
[null,null,"2-3",null,null,10,"科目110",null,null,10,"科目210",null,null,10,"科目310"]
[null,null,"2-4",null,null,11,"科目111",null,null,11,"科目211",null,null,11,"科目311"]
[null,null,"2-5",null,null,12,"科目112",null,null,12,"科目212",null,null,12,"科目312"]
[null,null,"2-6",null,null,13,"科目113",null,null,13,"科目213",null,null,13,"科目313",null,"科目数30、科目名は全角で4文字、半角で8文字で入力する"]
[null,null,"2-7",null,null,14,"科目114",null,null,14,"科目214",null,null,14,"科目314"]
[null,null,"2-8",null,null,15,"科目115",null,null,15,"科目215",null,null,15,"科目315"]
[null,null,"3-1",null,null,16,"科目116",null,null,16,"科目216",null,null,16,"科目316"]
[null,null,"3-2",null,null,17,"科目117",null,null,17,"科目217",null,null,17,"科目317"]
[null,null,"3-3",null,null,18,"科目118",null,null,18,"科目218",null,null,18,"科目318"]
[null,null,"3-4",null,null,19,"科目119",null,null,19,"科目219",null,null,19,"科目319"]
[null,null,"3-5",null,null,20,"科目120",null,null,20,"科目220",null,null,20,"科目320"]
[null,null,"3-6",null,null,21,"科目121",null,null,21,"科目221",null,null,21,"科目321"]
[null,null,"3-7",null,null,22,"科目122",null,null,22,"科目222",null,null,22,"科目322"]
[null,null,"別室",null,null,23,"科目123",null,null,23,"科目223",null,null,23,"科目323"]
[null,null,null,null,null,24,"科目124",null,null,24,"科目224",null,null,24,"科目324"]
[null,null,null,null,null,25,"科目125",null,null,25,"科目225",null,null,25,"科目325"]
[null,null,null,null,null,26,"科目126",null,null,26,"科目226",null,null,26,"科目326"]
[null,null,null,null,null,27,"科目127",null,null,27,"科目227",null,null,27,"科目327"]
[null,null,null,null,null,28,"科目128",null,null,28,"科目228",null,null,28,"科目328"]
[null,null,null,null,null,29,"科目129",null,null,29,"科目229",null,null,29,"科目329"]
[null,null,null,null,null,30,"科目130",null,null,30,"科目230",null,null,30,"科目330"]
["上の行までがリスト範囲"]